BEGIN:VCALENDAR
VERSION:2.0
PRODID:-//nesf.org.in - ECPv6.15.13.1//NONSGML v1.0//EN
CALSCALE:GREGORIAN
METHOD:PUBLISH
X-WR-CALNAME:nesf.org.in
X-ORIGINAL-URL:https://nesf.org.in
X-WR-CALDESC:Events for nesf.org.in
REFRESH-INTERVAL;VALUE=DURATION:PT1H
X-Robots-Tag:noindex
X-PUBLISHED-TTL:PT1H
BEGIN:VTIMEZONE
TZID:UTC
BEGIN:STANDARD
TZOFFSETFROM:+0000
TZOFFSETTO:+0000
TZNAME:UTC
DTSTART:20240101T000000
END:STANDARD
END:VTIMEZONE
BEGIN:VEVENT
DTSTART;TZID=UTC:20251211T080000
DTEND;TZID=UTC:20251211T170000
DTSTAMP:20260420T215044
CREATED:20241211T092931Z
LAST-MODIFIED:20241211T092931Z
UID:387-1765440000-1765472400@nesf.org.in
SUMMARY:Charities lean forward integrate social impact
DESCRIPTION:Sed ut perspiciatis unde omnis iste natus error sit voluptatem accusantium doloremque laudantium\, totam rem aperiam\, eaque ipsa quae ab illo. \nSed ut perspiciatis unde omnis iste natus error sit voluptatem accusantium doloremque laudantium\, totam rem aperiam\, eaque ipsa quae ab illo inventore veritatis et quasi architecto beatae vitae dicta sunt explicabo. Nemo enim ipsam voluptatem quia voluptas sit aspernatur aut odit aut fugit\, sed quia consequuntur magni dolores eos qui ratione voluptatem sequi nesciunt.
URL:https://nesf.org.in/event/charities-lean-forward-integrate-social-impact/
LOCATION:New York\, 8 King Street\, Queens\, United States
CATEGORIES:Charity
ATTACH;FMTTYPE=image/jpeg:https://nesf.org.in/wp-content/uploads/2025/05/campaign-02.jpg
ORGANIZER;CN="Gary Jones":MAILTO:contact@example.com
END:VEVENT
BEGIN:VEVENT
DTSTART;TZID=UTC:20251211T080000
DTEND;TZID=UTC:20251211T170000
DTSTAMP:20260420T215044
CREATED:20241211T092804Z
LAST-MODIFIED:20241211T092804Z
UID:384-1765440000-1765472400@nesf.org.in
SUMMARY:Begin with the charity event planning basics
DESCRIPTION:Sed ut perspiciatis unde omnis iste natus error sit voluptatem accusantium doloremque laudantium\, totam rem aperiam\, eaque ipsa quae ab illo. \nSed ut perspiciatis unde omnis iste natus error sit voluptatem accusantium doloremque laudantium\, totam rem aperiam\, eaque ipsa quae ab illo inventore veritatis et quasi architecto beatae vitae dicta sunt explicabo. Nemo enim ipsam voluptatem quia voluptas sit aspernatur aut odit aut fugit\, sed quia consequuntur magni dolores eos qui ratione voluptatem sequi nesciunt.
URL:https://nesf.org.in/event/begin-with-the-charity-event-planning-basics/
LOCATION:New York\, 8 King Street\, Queens\, United States
CATEGORIES:Charity
ATTACH;FMTTYPE=image/jpeg:https://nesf.org.in/wp-content/uploads/2025/05/campaign-02.jpg
ORGANIZER;CN="Gary Jones":MAILTO:contact@example.com
END:VEVENT
BEGIN:VEVENT
DTSTART;TZID=UTC:20251211T080000
DTEND;TZID=UTC:20251211T170000
DTSTAMP:20260420T215044
CREATED:20241211T092653Z
LAST-MODIFIED:20241211T092653Z
UID:382-1765440000-1765472400@nesf.org.in
SUMMARY:Fuel fundraising with better events for the word
DESCRIPTION:Sed ut perspiciatis unde omnis iste natus error sit voluptatem accusantium doloremque laudantium\, totam rem aperiam\, eaque ipsa quae ab illo. \nSed ut perspiciatis unde omnis iste natus error sit voluptatem accusantium doloremque laudantium\, totam rem aperiam\, eaque ipsa quae ab illo inventore veritatis et quasi architecto beatae vitae dicta sunt explicabo. Nemo enim ipsam voluptatem quia voluptas sit aspernatur aut odit aut fugit\, sed quia consequuntur magni dolores eos qui ratione voluptatem sequi nesciunt.
URL:https://nesf.org.in/event/fuel-fundraising-with-better-events-for-the-word/
LOCATION:New York\, 8 King Street\, Queens\, United States
CATEGORIES:Charity
ATTACH;FMTTYPE=image/jpeg:https://nesf.org.in/wp-content/uploads/2024/12/event-1.jpg
ORGANIZER;CN="Gary Jones":MAILTO:contact@example.com
END:VEVENT
END:VCALENDAR